BEGIN:VCALENDAR
VERSION:2.0
PRODID:-//hacksw/handcal//NONSGML v1.0//EN
BEGIN:VEVENT
UID:c295a51f23c2fd1cf5053bb03dbe9d2a@iba-wien.at
DTSTAMP:20260420T124402Z
DTSTART:20220916T140000Z
DTEND:20220916T170000Z
SUMMARY:Open Day at the GRÜNDER-INNEN-HOF
LOCATION:GRÜNDER-INNEN-HOF, Barbara-Prammer-Allee 15, 1220, Wien
END:VEVENT
END:VCALENDAR